BEGIN:VCALENDAR
VERSION:2.0
PRODID:-//EO Birmingham - ECPv6.14.2//NONSGML v1.0//EN
CALSCALE:GREGORIAN
METHOD:PUBLISH
X-WR-CALNAME:EO Birmingham
X-ORIGINAL-URL:https://eobham.com
X-WR-CALDESC:Events for EO Birmingham
REFRESH-INTERVAL;VALUE=DURATION:PT1H
X-Robots-Tag:noindex
X-PUBLISHED-TTL:PT1H
BEGIN:VTIMEZONE
TZID:America/Chicago
BEGIN:DAYLIGHT
TZOFFSETFROM:-0600
TZOFFSETTO:-0500
TZNAME:CDT
DTSTART:20260308T080000
END:DAYLIGHT
BEGIN:STANDARD
TZOFFSETFROM:-0500
TZOFFSETTO:-0600
TZNAME:CST
DTSTART:20261101T070000
END:STANDARD
END:VTIMEZONE
BEGIN:VEVENT
DTSTART;TZID=America/Chicago:20260219T130000
DTEND;TZID=America/Chicago:20260219T170000
DTSTAMP:20260423T164947
CREATED:20251204T043222Z
LAST-MODIFIED:20260203T164615Z
UID:10000018-1771506000-1771520400@eobham.com
SUMMARY:Workshop with David J. McClaskey – "Ordinary to Extraordinary: How to Achieve Operations Excellence"
DESCRIPTION:Learn proven tools and develop a new mindset to fuel your journey from ordinary to extraordinary as an individual\, a team\, and an organization.
URL:https://eobham.com/event/workshop-with-david-j-mcclaskey-ordinary-to-extraordinary-how-to-achieve-operations-excellence/
LOCATION:warren averett\, 2500 Acton Rd #200\, Vestavia Hills\, AL\, 35243\, United States
ATTACH;FMTTYPE=image/png:https://eobham.com/wp-content/uploads/Save-the-Date-Ordinary-to-Extraordinary-4.png
END:VEVENT
END:VCALENDAR