BEGIN:VCALENDAR
VERSION:2.0
PRODID:-//EO Birmingham - ECPv6.14.2//NONSGML v1.0//EN
CALSCALE:GREGORIAN
METHOD:PUBLISH
X-WR-CALNAME:EO Birmingham
X-ORIGINAL-URL:https://eobham.com
X-WR-CALDESC:Events for EO Birmingham
REFRESH-INTERVAL;VALUE=DURATION:PT1H
X-Robots-Tag:noindex
X-PUBLISHED-TTL:PT1H
BEGIN:VTIMEZONE
TZID:America/Chicago
BEGIN:DAYLIGHT
TZOFFSETFROM:-0600
TZOFFSETTO:-0500
TZNAME:CDT
DTSTART:20260308T080000
END:DAYLIGHT
BEGIN:STANDARD
TZOFFSETFROM:-0500
TZOFFSETTO:-0600
TZNAME:CST
DTSTART:20261101T070000
END:STANDARD
END:VTIMEZONE
BEGIN:VEVENT
DTSTART;TZID=America/Chicago:20260318T090000
DTEND;TZID=America/Chicago:20260318T160000
DTSTAMP:20260423T114726
CREATED:20260217T171317Z
LAST-MODIFIED:20260302T230039Z
UID:10000023-1773824400-1773849600@eobham.com
SUMMARY:Learning Day: Do You Have The Right Team to Grow Your Business?
DESCRIPTION:Have you thought about your PEOPLE lately? \n​Join us for People Day with Greg Crabtree! Reflect on your company’s pulse: Are Core Values leading\, or are policies overwhelming? Together\, we’ll refine recruiting\, embrace coaching for growth\, and navigate the nuances of compensation. \nREGISTER HERE
URL:https://eobham.com/event/learning-day-do-you-have-the-right-team-to-grow-your-business/
LOCATION:Greenhalgh Insurance Agency\, 3148 Cahaba Heights Rd\, Vestavia Hills\, AL\, 35243\, United States
ATTACH;FMTTYPE=image/png:https://eobham.com/wp-content/uploads/EO-Event-Greg-Crabtree-People-2.png
END:VEVENT
BEGIN:VEVENT
DTSTART;TZID=America/Chicago:20260331T173000
DTEND;TZID=America/Chicago:20260331T203000
DTSTAMP:20260423T114726
CREATED:20260217T190409Z
LAST-MODIFIED:20260227T221242Z
UID:10000025-1774978200-1774989000@eobham.com
SUMMARY:“Winning Trust: How to Create Moments That Matter”
DESCRIPTION:Discover how to win trust in your most valued relationships by creating moments that matter. Former pro tennis player Gary Niebur has been hosting some of the best-known leaders and teams as he wins and sustains high levels of trust. His clients and partnerships range from Fortune 100 companies and international nonprofits to professional athletes\, Michelin-starred chefs\, and influential leaders around the world. In Winning Trust\, Gary coaches people on the simple but powerful process he has been applying for over 25 years to build meaningful relationships that accelerate trust—whether in the board room\, on the playing field\, or around a dinner table.. It’s time to win trust—and create moments that matter. \nDinner to be served. Spouses/significant others encouraged to attend. \nREGISTER HERE
URL:https://eobham.com/event/winning-trust-how-to-create-moments-that-matter/
LOCATION:The Country Club of Birmingham\, 3325 Country Club Rd\, Mountain Brook\, AL\, 35213\, United States
ATTACH;FMTTYPE=image/png:https://eobham.com/wp-content/uploads/Winning-Trust-Bham-Country-Club-Event-1.png
END:VEVENT
END:VCALENDAR